BEGIN:VCALENDAR
VERSION:2.0
PRODID:gruene-karlsruhe-land.de
METHOD:PUBLISH
BEGIN:VTIMEZONE
TZID:Europe/Berlin
X-LIC-LOCATION:Europe/Berlin
BEGIN:DAYLIGHT
TZOFFSETFROM:+0100
TZOFFSETTO:+0200
TZNAME:CEST
DTSTART:19700329T020000
RRULE:FREQ=YEARLY;INTERVAL=1;BYDAY=-1SU;BYMONTH=3
END:DAYLIGHT
BEGIN:STANDARD
TZOFFSETFROM:+0200
TZOFFSETTO:+0100
TZNAME:CET
DTSTART:19701025T030000
RRULE:FREQ=YEARLY;INTERVAL=1;BYDAY=-1SU;BYMONTH=10
END:STANDARD
END:VTIMEZONE
BEGIN:VEVENT
UID:105ca45a415247ff1b445a68a36815b9@gruene-karlsruhe-land.de
URL;VALUE=URI:https://gruene-karlsruhe-land.de/blog/termine/entschlossen-
 gegen-kinderarmut-auf-dem-weg-zur-kindergrundsicherung/
LOCATION:
SUMMARY:Entschlossen gegen Kinderarmut – auf dem Weg zur Kindergrundsic
 herung
DESCRIPTION;ALTREP="data:text/html,%0A%3Cp%3EAm%20Donnerstag%2C%20den%207
 .12.23%2C%20um%2019%3A30%20l%C3%A4dt%20der%20Kreisverband%20Karlsruhe-Lan
 d%20alle%20Interessierten%20zu%20einem%20Online-Gespr%C3%A4ch%20mit%20Ste
 phanie%20Aeffner%20MdB%2C%20Sozialpolitikerin%20der%20gr%C3%BCnen%20Bunde
 stagfraktion%2C%20ein.%3C%2Fp%3E%0A%0A%0A%0A%3Cp%3E%26nbsp%3B%3Cbr%3EJede
 s%205.%20Kind%20w%C3%A4chst%20in%20unserem%20reichen%20Land%20in%20Armut%
 20auf.%20Das%20raubt%20Kindern%20Lebenschancen%20und%20dem%20Land%20Zukun
 ftschancen.%20Mit%20der%20Kindergrundsicherung%20wird%20die%20Unterst%C3%
 BCtzung%20f%C3%BCr%20Kinder%20und%20ihre%20Familien%20gerechter%2C%20einf
 acher%20und%20zug%C3%A4nglicher.%3Cbr%3EDie%20Kindergrundsicherung%20hat%
 20zum%20Ziel%2C%20Kinder%20aus%20der%20Armut%20zu%20holen.%20Die%20Kinder
 %20und%20ihre%20Familien%2C%20die%20mehr%20brauchen%2C%20erhalten%20auch%
 20mehr%20Unterst%C3%BCtzung.%20Statt%20eines%20Wirrwarrs%20an%20unterschi
 edlichen%20Leistungen%20gibt%20es%20zuk%C3%BCnftig%20eine%20zentrale%20Fa
 milienleistung.%20Der%20Staat%20hat%20eine%20Bringschuld%20gegen%C3%BCber
 %20den%20Familien%2C%20nicht%20mehr%20diese%20eine%20Holschuld.%20So%20in
 vestieren%20wir%20in%20das%20Versprechen%20auf%20Chancengleichheit%2C%20B
 ildungsaufstieg%20und%20Teilhabe.%3Cbr%3EDie%20Sozialpolitikerin%20Stepha
 nie%20Aeffner%20verhandelt%20in%20der%20gr%C3%BCnen%20Bundestagsfraktion%
 20u.a.%20die%20Kindergrundsicherung.%20Sie%20wird%20zu%20Beginn%20der%20V
 eranstaltung%20das%20Konzept%20vorstellen.%20Zudem%20wird%20sie%20mit%20e
 inigen%20Mythen%20aufr%C3%A4umen%20-%20wie%20dass%20sich%20Arbeit%20nicht
 %20mehr%20lohne.%20Im%20Anschluss%20ist%20Zeit%20f%C3%BCr%20Fragen%20und%
 20Diskussion.%3C%2Fp%3E%0A%0A%0A%0A%3Cp%3EAnmeldung%20bis%20einschlie%C3%
 9Flich%2006.%20Dezember%202023%20unter%3A%20%3Ca%20href%3D%22mailto%3Akon
 takt%40gruene-karlsruhe-land.de%22%3Ekontakt%40gruene-karlsruhe-land.de%3
 C%2Fa%3E%3C%2Fp%3E%0A%0A%0A%0A%3Cp%3EDer%20Einwahllink%20wird%20anschlie%
 C3%9Fend%20per%20E-Mail%20zugesendet.%3C%2Fp%3E%0A":Am Donnerstag\, den 7
 .12.23\, um 19:30 lädt der Kreisverband Karlsruhe-Land alle Interessiert
 en zu einem Online-Gespräch mit Stephanie Aeffner MdB\, Sozialpolitikeri
 n der grünen Bundestagfraktion\, ein.\n\n Jedes 5. Kind wächst in unse
 rem reichen Land in Armut auf. Das raubt Kindern Lebenschancen und dem La
 nd Zukunftschancen. Mit der Kindergrundsicherung wird die Unterstützung 
 für Kinder und ihre Familien gerechter\, einfacher und zugänglicher.Die
  Kindergrundsicherung hat zum Ziel\, Kinder aus der Armut zu holen. Die K
 inder und ihre Familien\, die mehr brauchen\, erhalten auch mehr Unterst
 ützung. Statt eines Wirrwarrs an unterschiedlichen Leistungen gibt es zu
 künftig eine zentrale Familienleistung. Der Staat hat eine Bringschuld g
 egenüber den Familien\, nicht mehr diese eine Holschuld. So investieren 
 wir in das Versprechen auf Chancengleichheit\, Bildungsaufstieg und Teilh
 abe.Die Sozialpolitikerin Stephanie Aeffner verhandelt in der grünen Bun
 destagsfraktion u.a. die Kindergrundsicherung. Sie wird zu Beginn der Ver
 anstaltung das Konzept vorstellen. Zudem wird sie mit einigen Mythen aufr
 äumen - wie dass sich Arbeit nicht mehr lohne. Im Anschluss ist Zeit fü
 r Fragen und Diskussion.\n\nAnmeldung bis einschließlich 06. Dezember 20
 23 unter: kontakt@gruene-karlsruhe-land.de\n\nDer Einwahllink wird anschl
 ießend per E-Mail zugesendet.
CLASS:PUBLIC
DTSTART;TZID=Europe/Berlin:20231207T193000
DTEND;TZID=Europe/Berlin:20231207T203000
DTSTAMP:20260421T061046
END:VEVENT
END:VCALENDAR