BEGIN:VCALENDAR
VERSION:2.0
PRODID:gruene-karlsruhe-land.de
METHOD:PUBLISH
BEGIN:VTIMEZONE
TZID:Europe/Berlin
X-LIC-LOCATION:Europe/Berlin
BEGIN:DAYLIGHT
TZOFFSETFROM:+0100
TZOFFSETTO:+0200
TZNAME:CEST
DTSTART:19700329T020000
RRULE:FREQ=YEARLY;INTERVAL=1;BYDAY=-1SU;BYMONTH=3
END:DAYLIGHT
BEGIN:STANDARD
TZOFFSETFROM:+0200
TZOFFSETTO:+0100
TZNAME:CET
DTSTART:19701025T030000
RRULE:FREQ=YEARLY;INTERVAL=1;BYDAY=-1SU;BYMONTH=10
END:STANDARD
END:VTIMEZONE
BEGIN:VEVENT
UID:b970a0c4971c64e4be019198f4534a3e@gruene-karlsruhe-land.de
URL;VALUE=URI:https://gruene-karlsruhe-land.de/blog/termine/kv-ov-treffen
 -2/
LOCATION:Grünes Büro, Kübelmarkt 6, 76646 Bruchsal
SUMMARY:KV-OV-Treffen
DESCRIPTION;ALTREP="data:text/html,%0A%3Cp%3ELiebe%20Vorst%C3%A4nde%20in%
 20den%20Ortsverb%C3%A4nden%2C%3C%2Fp%3E%0A%0A%0A%0A%3Cp%3Ewir%20hoffen%2C
 %20ihr%20genie%C3%9Ft%20die%20Fr%C3%BChlingssonne%20und%20nutzt%20die%20a
 nstehenden%20Osterfeiertage%20f%C3%BCr%20ein%20bisschen%20Erholung%20nach
 %20dem%20Landtagswahlkampf.%20Herzlichen%20Dank%20f%C3%BCr%20euren%20Eins
 atz%2C%20die%20Organisation%20des%20Wahlkampfs%20vor%20Ort%2C%20f%C3%BCrs
 %20Auf-%20und%20Abh%C3%A4ngen%20der%20Plakate%2C%20f%C3%BCr%20die%20Infos
 t%C3%A4nde%20bei%20nicht%20immer%20so%20sch%C3%B6nem%20Wetter%2C%20f%C3%B
 Cr%20das%20Aktivieren%20der%20Mitglieder%20und%20vieles%20mehr%21%20Gemei
 nsam%20haben%20wir%20alle%20zu%20diesem%20starken%20gr%C3%BCnen%20Ergebni
 s%20im%20Land%20beigetragen%20%26lt%3B3%3C%2Fp%3E%0A%0A%0A%0A%3Cp%3ENach%
 20der%20Kommunal-%2C%20Kreis-%20und%20Europawahl%202024%2C%20der%20vorgez
 ogenen%20Bundestagswahl%202025%20und%20der%20Landtagswahl%202026%20liegt%
 20nun%20bis%20%28wahrscheinlich%29%20Anfang%202029%20eine%20Zeit%20ohne%2
 0Wahlk%C3%A4mpfe%20vor%20uns.%20Wir%20m%C3%B6chten%20das%20KV-OV-Treffen%
 20daher%20daf%C3%BCr%20nutzen%2C%20gemeinsam%20zu%20%C3%BCberlegen%2C%20w
 ie%20wir%20diese%20Zeit%20vor%20Ort%20gestalten%20m%C3%B6chten.%20Welche%
 20Ideen%2FVeranstaltungen%2FThemen%20haben%20wir%2C%20wie%20k%C3%B6nnen%2
 0wir%20die%20Pr%C3%A4senz%20auch%20au%C3%9Ferhalb%20von%20Wahlk%C3%A4mpfe
 n%20im%20Ort%20hochhalten%20und%20wie%20k%C3%B6nnen%20neue%20Mitglieder%2
 0weiter%20eingebunden%20werden.%3C%2Fp%3E%0A%0A%0A%0A%3Cp%3EDas%20KV-OV-T
 reffen%20ist%20f%C3%BCr%201-2%20Personen%20aus%20eurem%20Ortsvorstand%20g
 edacht.%20Nat%C3%BCrlich%20k%C3%B6nnt%20ihr%20auch%20eine%20Vertretung%20
 schicken%2C%20wenn%20ihr%20an%20diesem%20Termin%20verhindert%20seid.%20Bi
 tte%20meldet%20bis%20Montag%2C%2020.%20April%2C%20zur%C3%BCck%2C%20ob%20u
 nd%20mit%20wie%20vielen%20Personen%20ihr%20teilnehmt.%3C%2Fp%3E%0A%0A%0A%
 0A%3Cp%3E%C3%9Cberblick%3A%3Cbr%3ESamstag%2C%2025.%20April%2C%2010%20bis%
 2013%20Uhr%3Cbr%3EGr%C3%BCnes%20B%C3%BCro%2C%20K%C3%BCbelmarkt%206%2C%20B
 ruchsal%3Cbr%3Ef%C3%BCr%20Verpflegung%20ist%20gesorgt%3C%2Fp%3E%0A%0A%0A%
 0A%3Cp%3EMeldet%20euch%20bei%20R%C3%BCckfragen%20immer%20gerne%21%3C%2Fp%
 3E%0A%0A%0A%0A%3Cp%3EHerzliche%20Gr%C3%BC%C3%9Fe%2C%3Cbr%3EMareike%20f%C3
 %BCr%20den%20Kreisvorstand%20und%20Deborah%20aus%20der%20Gesch%C3%A4ftsst
 elle%3C%2Fp%3E%0A":Liebe Vorstände in den Ortsverbänden\,\n\nwir hoffen
 \, ihr genießt die Frühlingssonne und nutzt die anstehenden Osterfeiert
 age für ein bisschen Erholung nach dem Landtagswahlkampf. Herzlichen Dan
 k für euren Einsatz\, die Organisation des Wahlkampfs vor Ort\, fürs Au
 f- und Abhängen der Plakate\, für die Infostände bei nicht immer so sc
 hönem Wetter\, für das Aktivieren der Mitglieder und vieles mehr! Gemei
 nsam haben wir alle zu diesem starken grünen Ergebnis im Land beigetrage
 n <3\n\nNach der Kommunal-\, Kreis- und Europawahl 2024\, der vorgezogene
 n Bundestagswahl 2025 und der Landtagswahl 2026 liegt nun bis (wahrschein
 lich) Anfang 2029 eine Zeit ohne Wahlkämpfe vor uns. Wir möchten das KV
 -OV-Treffen daher dafür nutzen\, gemeinsam zu überlegen\, wie wir diese
  Zeit vor Ort gestalten möchten. Welche Ideen/Veranstaltungen/Themen hab
 en wir\, wie können wir die Präsenz auch außerhalb von Wahlkämpfen im
  Ort hochhalten und wie können neue Mitglieder weiter eingebunden werden
 .\n\nDas KV-OV-Treffen ist für 1-2 Personen aus eurem Ortsvorstand gedac
 ht. Natürlich könnt ihr auch eine Vertretung schicken\, wenn ihr an die
 sem Termin verhindert seid. Bitte meldet bis Montag\, 20. April\, zurück
 \, ob und mit wie vielen Personen ihr teilnehmt.\n\nÜberblick:Samstag\, 
 25. April\, 10 bis 13 UhrGrünes Büro\, Kübelmarkt 6\, Bruchsalfür Ver
 pflegung ist gesorgt\n\nMeldet euch bei Rückfragen immer gerne!\n\nHerzl
 iche Grüße\,Mareike für den Kreisvorstand und Deborah aus der Geschäf
 tsstelle
CLASS:PUBLIC
DTSTART;TZID=Europe/Berlin:20260425T100000
DTEND;TZID=Europe/Berlin:20260425T130000
DTSTAMP:20260419T144445
END:VEVENT
END:VCALENDAR