BEGIN:VCALENDAR
VERSION:2.0
PRODID:gruene-karlsruhe-land.de
METHOD:PUBLISH
BEGIN:VTIMEZONE
TZID:Europe/Berlin
X-LIC-LOCATION:Europe/Berlin
BEGIN:DAYLIGHT
TZOFFSETFROM:+0100
TZOFFSETTO:+0200
TZNAME:CEST
DTSTART:19700329T020000
RRULE:FREQ=YEARLY;INTERVAL=1;BYDAY=-1SU;BYMONTH=3
END:DAYLIGHT
BEGIN:STANDARD
TZOFFSETFROM:+0200
TZOFFSETTO:+0100
TZNAME:CET
DTSTART:19701025T030000
RRULE:FREQ=YEARLY;INTERVAL=1;BYDAY=-1SU;BYMONTH=10
END:STANDARD
END:VTIMEZONE
BEGIN:VEVENT
UID:e6848426090d348d2f4ac0331444f035@gruene-karlsruhe-land.de
URL;VALUE=URI:https://gruene-karlsruhe-land.de/blog/termine/mitgliederauf
 nahme/
LOCATION:
SUMMARY:Mitgliederaufnahme
DESCRIPTION;ALTREP="data:text/html,%0A%3Cp%3EDer%20Termin%20findet%20hybr
 id%2C%20intern%20%20und%20nur%20bei%20Bedarf%20statt.%20Die%20Ortsverb%C3
 %A4nde%20werden%20entsprechend%20informiert.%3C%2Fp%3E%0A":Der Termin fin
 det hybrid\, intern  und nur bei Bedarf statt. Die Ortsverbände werden e
 ntsprechend informiert.
CLASS:PUBLIC
DTSTART;TZID=Europe/Berlin:20230719T190000
DTEND;TZID=Europe/Berlin:20230719T193000
DTSTAMP:20260422T094738
END:VEVENT
END:VCALENDAR